BEGIN:VCALENDAR
VERSION:2.0
PRODID:-//ChamberMaster//Event Calendar 2.0//EN
METHOD:PUBLISH
X-PUBLISHED-TTL:P3D
REFRESH-INTERVAL:P3D
CALSCALE:GREGORIAN
BEGIN:VEVENT
DTSTART:20150224T233000Z
DTEND:20150225T010000Z
X-MICROSOFT-CDO-ALLDAYEVENT:FALSE
SUMMARY:2015 Travel and Adventure Series: Kayaking Isle Royale
DESCRIPTION:2015 Travel and Adventure Series: Kayaking Isle Royale -- Isle Royale ranks as the nation?s most remote national park. Join Frida Waara as she shares her journey around the island by kayak. Frida believes everything gets better when you get outside. Hooked on traveling--particularly under her own power--she will share touring our nation?s most remote national park from the waterline.
X-ALT-DESC;FMTTYPE=text/html:2015 Travel and Adventure Series: Kayaking Isle Royale -- Isle Royale ranks as the nation?s most remote national park. Join Frida Waara as she shares her journey around the island by kayak. Frida believes everything gets better when you get outside. Hooked on traveling--particularly under her own power--she will share touring our nation?s most remote national park from the waterline.
LOCATION:Charlevoix Public Library
UID:e.1716.2748
SEQUENCE:3
DTSTAMP:20260424T173504Z
URL:http://business.charlevoix.org/events/details/2015-travel-and-adventure-series-kayaking-isle-royale-02-24-2015-2748
END:VEVENT

END:VCALENDAR
