BEGIN:VCALENDAR
VERSION:2.0
PRODID:-//ChamberMaster//Event Calendar 2.0//EN
METHOD:PUBLISH
X-PUBLISHED-TTL:P3D
REFRESH-INTERVAL:P3D
CALSCALE:GREGORIAN
BEGIN:VEVENT
DTSTART:20200220T223000Z
DTEND:20200221T010000Z
X-MICROSOFT-CDO-ALLDAYEVENT:FALSE
SUMMARY:2020 Annual Meeting & Chamber Awards
DESCRIPTION:We hope you will join us in celebrating Charlevoix\, its Chamber businesses\, organizations\, clubs\, and individuals at the Chamber Annual Meeting and Awards Dinner at Castle Farms on Thursday\, February 20\, 2020. \n\n\n\nThe night of celebration will include dinner and a cash bar. Please join us in our Charlevoix Celebration! \n\n\n\nFeatured Speaker: Chip Hansen\, President\, Charlevoix County Community Foundation\n\n\n\n                            Awards Presented Include: \n\nBusiness of the Year                                     Young Professional\n\nOleson's Food Store                                        Richard Christner\n\n\n\nOutstanding Citizen of the Year                   New Business of the Year\n\nDenise Fate                                                     Bier's Inwood Brewery\n\n                                                                            Award Sponsored by: Boat Works of Charlevoix\n\nCustomer Service Award                              Chamber Ambassador of the Year           \n\nDaniel Elliott                                                     Tabatha Simpson\n\nAward Sponsored by: Fox Charlevoix                       Award Sponsored by: Blue Cross Blue Shield\n\n& Fox Charlevoix Ford\n\n\n\n**Celebrate our winners by sponsoring an award- contact the Chamber office for more information\, 231-547-2101.
X-ALT-DESC;FMTTYPE=text/html:We hope you will join us in celebrating Charlevoix\, its Chamber businesses\, organizations\, clubs\, and individuals at the Chamber Annual Meeting and Awards Dinner at Castle Farms on Thursday\, February 20\, 2020.&nbsp\;<br />\n<br />\nThe night of celebration will include dinner and a cash bar. Please join us in our Charlevoix Celebration!&nbsp\;<br />\n<br />\nFeatured Speaker: Chip Hansen\, President\, Charlevoix County Community Foundation<br />\n<br />\n&nbsp\;&nbsp\;&nbsp\;&nbsp\;&nbsp\;&nbsp\;&nbsp\;&nbsp\;&nbsp\;&nbsp\;&nbsp\;&nbsp\;&nbsp\;&nbsp\;&nbsp\;&nbsp\;&nbsp\;&nbsp\;&nbsp\;&nbsp\;&nbsp\;&nbsp\;&nbsp\;&nbsp\;&nbsp\;&nbsp\;&nbsp\;&nbsp\;<span style="font-size:14px\;"><strong><u>Awards Presented Include:&nbsp\;</u></strong></span><br />\n<strong><u>Business of the Year</u></strong>&nbsp\;&nbsp\;&nbsp\;&nbsp\;&nbsp\;&nbsp\;&nbsp\;&nbsp\;&nbsp\;&nbsp\;&nbsp\;&nbsp\;&nbsp\;&nbsp\;&nbsp\;&nbsp\;&nbsp\;&nbsp\;&nbsp\;&nbsp\;&nbsp\;&nbsp\;&nbsp\;&nbsp\;&nbsp\;&nbsp\;&nbsp\;&nbsp\;&nbsp\;&nbsp\;&nbsp\;&nbsp\;&nbsp\;&nbsp\;&nbsp\;&nbsp\;&nbsp\;<u><strong>Young Professional</strong></u><br />\nOleson&#39\;s Food Store&nbsp\;&nbsp\;&nbsp\;&nbsp\;&nbsp\;&nbsp\;&nbsp\;&nbsp\;&nbsp\;&nbsp\;&nbsp\;&nbsp\;&nbsp\;&nbsp\;&nbsp\;&nbsp\;&nbsp\;&nbsp\;&nbsp\;&nbsp\;&nbsp\;&nbsp\;&nbsp\;&nbsp\;&nbsp\;&nbsp\;&nbsp\;&nbsp\;&nbsp\;&nbsp\;&nbsp\;&nbsp\;&nbsp\;&nbsp\;&nbsp\;&nbsp\;&nbsp\; &nbsp\; Richard Christner<br />\n<br />\n<strong><u>Outstanding Citizen of the Year</u></strong>&nbsp\;&nbsp\;&nbsp\;&nbsp\;&nbsp\;&nbsp\;&nbsp\;&nbsp\;&nbsp\;&nbsp\;&nbsp\;&nbsp\;&nbsp\;&nbsp\;&nbsp\;&nbsp\;&nbsp\; &nbsp\;<u><strong>New Business of the Year</strong></u><br />\nDenise Fate&nbsp\;&nbsp\;&nbsp\;&nbsp\;&nbsp\;&nbsp\;&nbsp\;&nbsp\;&nbsp\;&nbsp\;&nbsp\;&nbsp\;&nbsp\;&nbsp\;&nbsp\;&nbsp\;&nbsp\;&nbsp\;&nbsp\;&nbsp\;&nbsp\;&nbsp\;&nbsp\;&nbsp\;&nbsp\;&nbsp\;&nbsp\;&nbsp\;&nbsp\;&nbsp\;&nbsp\;&nbsp\;&nbsp\;&nbsp\;&nbsp\;&nbsp\;&nbsp\;&nbsp\;&nbsp\;&nbsp\;&nbsp\;&nbsp\;&nbsp\;&nbsp\;&nbsp\;&nbsp\;&nbsp\;&nbsp\;&nbsp\;&nbsp\;&nbsp\;&nbsp\;&nbsp\;Bier&#39\;s Inwood Brewery<br />\n&nbsp\;&nbsp\;&nbsp\;&nbsp\;&nbsp\;&nbsp\;&nbsp\;&nbsp\;&nbsp\;&nbsp\;&nbsp\;&nbsp\;&nbsp\;&nbsp\;&nbsp\;&nbsp\;&nbsp\;&nbsp\;&nbsp\;&nbsp\;&nbsp\;&nbsp\;&nbsp\;&nbsp\;&nbsp\;&nbsp\;&nbsp\;&nbsp\;&nbsp\;&nbsp\;&nbsp\;&nbsp\;&nbsp\;&nbsp\;&nbsp\;&nbsp\;&nbsp\;&nbsp\;&nbsp\;&nbsp\;&nbsp\;&nbsp\;&nbsp\;&nbsp\;&nbsp\;&nbsp\;&nbsp\;&nbsp\;&nbsp\;&nbsp\;&nbsp\;&nbsp\;&nbsp\;&nbsp\;&nbsp\;&nbsp\;&nbsp\;&nbsp\;&nbsp\;&nbsp\;&nbsp\;&nbsp\;&nbsp\;&nbsp\;&nbsp\;&nbsp\;&nbsp\;&nbsp\;&nbsp\;&nbsp\;&nbsp\;&nbsp\;&nbsp\;&nbsp\;&nbsp\;&nbsp\;<em><strong><span style="font-size: 11px\;">Award Sponsored by: Boat Works of Charlevoix</span></strong></em><br />\n<strong><u>Customer Service Award&nbsp\;</u>&nbsp\;&nbsp\;&nbsp\;&nbsp\;&nbsp\;&nbsp\;&nbsp\;&nbsp\;&nbsp\;&nbsp\;&nbsp\;&nbsp\;&nbsp\;&nbsp\;&nbsp\;&nbsp\;&nbsp\;&nbsp\;&nbsp\;&nbsp\;&nbsp\;&nbsp\;&nbsp\;&nbsp\;&nbsp\;&nbsp\;&nbsp\;&nbsp\;&nbsp\;<u>Chamber Ambassador of the Year&nbsp\;&nbsp\;</u></strong>&nbsp\;&nbsp\;&nbsp\;&nbsp\;&nbsp\;&nbsp\;&nbsp\;&nbsp\;&nbsp\;<br />\nDaniel Elliott&nbsp\;&nbsp\;&nbsp\; &nbsp\; &nbsp\; &nbsp\; &nbsp\; &nbsp\; &nbsp\; &nbsp\; &nbsp\; &nbsp\; &nbsp\; &nbsp\; &nbsp\; &nbsp\; &nbsp\; &nbsp\; &nbsp\; &nbsp\; &nbsp\; &nbsp\; &nbsp\; &nbsp\; &nbsp\; &nbsp\; &nbsp\; &nbsp\;Tabatha Simpson<br />\n<strong><em><span style="font-size:11px\;">Award Sponsored by: Fox Charlevoix</span></em>&nbsp\;&nbsp\;&nbsp\;&nbsp\;&nbsp\;&nbsp\;&nbsp\;&nbsp\;&nbsp\;&nbsp\;&nbsp\;&nbsp\;&nbsp\;&nbsp\;&nbsp\;&nbsp\;&nbsp\;&nbsp\;&nbsp\;&nbsp\;&nbsp\; &nbsp\;</strong><em><strong><span style="font-size:11px\;">Award Sponsored by: Blue Cross Blue Shield<br />\n&amp\; Fox Charlevoix Ford</span></strong></em><br />\n<br />\n**Celebrate our winners by sponsoring an award- contact the Chamber office for more information\, 231-547-2101.
LOCATION:Castle Farms
UID:e.1716.12808
SEQUENCE:3
DTSTAMP:20260420T205129Z
URL:http://business.charlevoix.org/events/details/2020-annual-meeting-chamber-awards-12808
END:VEVENT

END:VCALENDAR
