BEGIN:VCALENDAR
VERSION:2.0
PRODID:-//ChamberMaster//Event Calendar 2.0//EN
METHOD:PUBLISH
X-PUBLISHED-TTL:P3D
REFRESH-INTERVAL:P3D
CALSCALE:GREGORIAN
BEGIN:VEVENT
DTSTART:20200313T150000Z
DTEND:20200314T230000Z
X-MICROSOFT-CDO-ALLDAYEVENT:FALSE
SUMMARY:2020 Northern Michigan Home and Outdoor Living Show
DESCRIPTION:The 44th Annual 2020 Northern Michigan Home and Outdoor Living show is a family friendly event with exhibitors showcasing services and products related to home improvement\, construction and remodeling\, as well as aligned businesses. There will be children's activities and demonstrations\, along with garden shed building by the local building trades students.
X-ALT-DESC;FMTTYPE=text/html:The 44th Annual 2020 Northern Michigan Home and Outdoor Living show is a family friendly event with exhibitors showcasing services and products related to home improvement\, construction and remodeling\, as well as aligned businesses. There will be children&rsquo\;s activities and demonstrations\, along with garden shed building by the local building trades students.
LOCATION:North Central Michigan College\, Community Resource Room\, 1515 Howard St\, Petoskey\, MI 49770
UID:e.1716.12908
SEQUENCE:3
DTSTAMP:20260420T192335Z
URL:http://business.charlevoix.org/events/details/2020-northern-michigan-home-and-outdoor-living-show-12908
END:VEVENT

END:VCALENDAR
