BEGIN:VCALENDAR
VERSION:2.0
PRODID:-//ChamberMaster//Event Calendar 2.0//EN
METHOD:PUBLISH
X-PUBLISHED-TTL:P3D
REFRESH-INTERVAL:P3D
CALSCALE:GREGORIAN
BEGIN:VEVENT
DTSTART:20200416T220000Z
DTEND:20200416T233000Z
X-MICROSOFT-CDO-ALLDAYEVENT:FALSE
SUMMARY:Acrylic Pour Class with Heidi Finley
DESCRIPTION:Held on the 3rd Thursday of each month January-June. Acrylic Pour classes with Heidi Finley each month! Each session uses the Acrylic Pour process to produce a different featured item. Beginners through advanced are welcome at any or all sessions. Come join this fun and evolving series with Heidi. No experience necessary and all materials included! April 16: Terra Cotta pot. Colorful and dramatic\, the acrylic pour process is seriously beautiful.
X-ALT-DESC;FMTTYPE=text/html:Held on the 3rd Thursday of each month January-June. Acrylic Pour classes with Heidi Finley each month! Each session uses the Acrylic Pour process to produce a different featured item. Beginners through advanced are welcome at any or all sessions. Come join this fun and evolving series with Heidi. No experience necessary and all materials included! April 16: Terra Cotta pot. Colorful and dramatic\, the acrylic pour process is seriously beautiful.
LOCATION:Charlevoix Circle of Arts Lower Garden Level Studio
UID:e.1716.12944
SEQUENCE:3
DTSTAMP:20260420T175504Z
URL:http://business.charlevoix.org/events/details/acrylic-pour-class-with-heidi-finley-04-16-2020-12944
END:VEVENT

END:VCALENDAR
