BEGIN:VCALENDAR
VERSION:2.0
PRODID:-//ChamberMaster//Event Calendar 2.0//EN
METHOD:PUBLISH
X-PUBLISHED-TTL:P3D
REFRESH-INTERVAL:P3D
CALSCALE:GREGORIAN
BEGIN:VEVENT
DTSTART:20200213T170000Z
DTEND:20200213T200000Z
X-MICROSOFT-CDO-ALLDAYEVENT:FALSE
SUMMARY:Art in the Afternoon
DESCRIPTION:Art in the Afternoon is an Open studio opportunity for art enthusiasts! Thursday afternoons from 12-3pm\, artists & makers can work in a supportive setting sharing ideas and concepts. This is an open studio for most mediums. Free for members\, non-members donations appreciated. For ages 18 and older.
X-ALT-DESC;FMTTYPE=text/html:Art in the Afternoon is an Open studio opportunity for art enthusiasts! Thursday afternoons from 12-3pm\, artists &amp\; makers can work in a supportive setting sharing ideas and concepts. This is an open studio for most mediums. Free for members\, non-members donations appreciated. For ages 18 and older.
LOCATION:
UID:e.1716.12852
SEQUENCE:3
DTSTAMP:20260420T205013Z
URL:http://business.charlevoix.org/events/details/art-in-the-afternoon-12852
END:VEVENT

END:VCALENDAR
