BEGIN:VCALENDAR
VERSION:2.0
PRODID:-//ChamberMaster//Event Calendar 2.0//EN
METHOD:PUBLISH
X-PUBLISHED-TTL:P3D
REFRESH-INTERVAL:P3D
CALSCALE:GREGORIAN
BEGIN:VEVENT
DTSTART:20200818T223000Z
DTEND:20200819T000000Z
X-MICROSOFT-CDO-ALLDAYEVENT:FALSE
SUMMARY:Bill McAllister as Frank Sinatra
DESCRIPTION:Bill McAllister began performing full time in 1970\, singing and playing piano in various bands until 1985\, when he started a solo act. In 1995 and for the next twenty years Bill began a new career in Dueling Pianos\, then spent two years performing aboard cruise ships in their piano bars. Finally\, in December of 2016 he launched his now highly successful Frank Sinatra tribute show and the rest-as they say\, is history. Bill says he feels like "I've got the world on a string." Children's Garden-BYO lawn chair.
X-ALT-DESC;FMTTYPE=text/html:Bill McAllister began performing full time in 1970\, singing and playing piano in various bands until 1985\, when he started a solo act. In 1995 and for the next twenty years Bill began a new career in Dueling Pianos\, then spent two years performing aboard cruise ships in their piano bars. Finally\, in December of 2016 he launched his now highly successful Frank Sinatra tribute show and the rest-as they say\, is history. Bill says he feels like &ldquo\;I&rsquo\;ve got the world on a string.&quot\; Children&#39\;s Garden-BYO lawn chair.
LOCATION:Charlevoix Public Library-Children's Garden
UID:e.1716.13060
SEQUENCE:3
DTSTAMP:20260422T084839Z
URL:http://business.charlevoix.org/events/details/bill-mcallister-as-frank-sinatra-08-18-2020-13060
END:VEVENT

END:VCALENDAR
