BEGIN:VCALENDAR
VERSION:2.0
PRODID:-//ChamberMaster//Event Calendar 2.0//EN
METHOD:PUBLISH
X-PUBLISHED-TTL:P3D
REFRESH-INTERVAL:P3D
CALSCALE:GREGORIAN
BEGIN:VEVENT
DTSTART:20190813T223000Z
DTEND:20190814T000000Z
X-MICROSOFT-CDO-ALLDAYEVENT:FALSE
SUMMARY:Billy McAllister as Frank Sinatra
DESCRIPTION:Bill McAllister began performing full time in 1970\, singing and playing piano in various bands until 1985\, when I started a solo act. In 1995 and for the next twenty years I began a new career in Dueling Pianos\, then spent two years performing aboard cruise ships in their piano bars. Finally\, in December of 2016 I launched my now highly successful Frank Sinatra tribute show and the rest-as they say\, is history. Now I feel like "I've got the World on a string".
X-ALT-DESC;FMTTYPE=text/html:Bill McAllister began performing full time in 1970\, singing and playing piano in various bands until 1985\, when I started a solo act. In 1995 and for the next twenty years I began a new career in Dueling Pianos\, then spent two years performing aboard cruise ships in their piano bars. Finally\, in December of 2016 I launched my now highly successful Frank Sinatra tribute show and the rest-as they say\, is history. Now I feel like &ldquo\;I&rsquo\;ve got the World on a string&rdquo\;.
LOCATION:Charlevoix Public Library-Community Room
UID:e.1716.10656
SEQUENCE:3
DTSTAMP:20260421T063903Z
URL:http://business.charlevoix.org/events/details/billy-mcallister-as-frank-sinatra-10656
END:VEVENT

END:VCALENDAR
