BEGIN:VCALENDAR
VERSION:2.0
PRODID:-//ChamberMaster//Event Calendar 2.0//EN
METHOD:PUBLISH
X-PUBLISHED-TTL:P3D
REFRESH-INTERVAL:P3D
CALSCALE:GREGORIAN
BEGIN:VEVENT
DTSTART:20200215T150000Z
DTEND:20200215T210000Z
X-MICROSOFT-CDO-ALLDAYEVENT:FALSE
SUMMARY:BOGO Apple Sale
DESCRIPTION:Celebrate Presidents Day with our BOGO Apple Sale! ALL SMALL QUANTITIES OF APPLES (1/4 & 1/2) pk) BOGO FREE! All 1/2 bushel an bushel quantities BOBO 50% OFF! Get those before they are gone! Apple Cider only $5/Gallon
X-ALT-DESC;FMTTYPE=text/html:Celebrate Presidents Day with our BOGO Apple Sale! ALL SMALL QUANTITIES OF APPLES (1/4 &amp\; 1/2) pk) BOGO FREE! All 1/2 bushel an bushel quantities BOBO 50% OFF! Get those before they are gone! Apple Cider only $5/Gallon
LOCATION:Friske Farm Market 10 Miles South of Charlevoix on US 31 in Atwood
UID:e.1716.12931
SEQUENCE:3
DTSTAMP:20260420T205032Z
URL:http://business.charlevoix.org/events/details/bogo-apple-sale-12931
END:VEVENT

END:VCALENDAR
