BEGIN:VCALENDAR
VERSION:2.0
PRODID:-//ChamberMaster//Event Calendar 2.0//EN
METHOD:PUBLISH
X-PUBLISHED-TTL:P3D
REFRESH-INTERVAL:P3D
CALSCALE:GREGORIAN
BEGIN:VEVENT
DTSTART:20200312T220000Z
DTEND:20200313T000000Z
X-MICROSOFT-CDO-ALLDAYEVENT:FALSE
SUMMARY:Cactus Garden Class
DESCRIPTION:Part of our Floral Design Series for 2020 will feature a different class each month with area floral designers! Each class you'll take home a completed floral or planting arrangement. In this class you'll create your own CACTUS GARDEN with Kari Davis of Petals. Class includes plants\, container\, tools to take home & more! All materials and container included. (please bring a pair of snips and gloves if you have them).
X-ALT-DESC;FMTTYPE=text/html:Part of our Floral Design Series for 2020 will feature a different class each month with area floral designers! Each class you&#39\;ll take home a completed floral or planting arrangement. In this class you&#39\;ll create your own CACTUS GARDEN with Kari Davis of Petals. Class includes plants\, container\, tools to take home &amp\; more! All materials and container included. (please bring a pair of snips and gloves if you have them).
LOCATION:Charlevoix Circle of Arts
UID:e.1716.12907
SEQUENCE:3
DTSTAMP:20260421T083836Z
URL:http://business.charlevoix.org/events/details/cactus-garden-class-12907
END:VEVENT

END:VCALENDAR
