BEGIN:VCALENDAR
VERSION:2.0
PRODID:-//ChamberMaster//Event Calendar 2.0//EN
METHOD:PUBLISH
X-PUBLISHED-TTL:P3D
REFRESH-INTERVAL:P3D
CALSCALE:GREGORIAN
BEGIN:VEVENT
DTSTART:20200315T200000Z
DTEND:20200315T220000Z
X-MICROSOFT-CDO-ALLDAYEVENT:FALSE
SUMMARY:Canadian Brass
DESCRIPTION:With an international reputation as one of the most popular brass ensembles today\, Canadian Brass has truly earned the distinction of "the world's most famous brass group." Masters of concert presentations\, Canadian Brass has developed a uniquely engaging stage presence and rapport with audiences. The hallmark of any Canadian Brass performance is entertainment\, spontaneity\, virtuosity and\, most of all\, fun   but never at the expense of the music\; whatever the style\, the music is central and performed with utmost dedication\, skill and excellence. Great Lakes Center for the Arts 800 Bay Harbor Drive Petoskey\, MI 49770 For tickets and more information visit greatlakescfa.org\, e-mail tickets@greatlakescfa.org\, or call 231.439.2610.
X-ALT-DESC;FMTTYPE=text/html:With an international reputation as one of the most popular brass ensembles today\, Canadian Brass has truly earned the distinction of &ldquo\;the world&rsquo\;s most famous brass group.&rdquo\; Masters of concert presentations\, Canadian Brass has developed a uniquely engaging stage presence and rapport with audiences. The hallmark of any Canadian Brass performance is entertainment\, spontaneity\, virtuosity and\, most of all\, fun &ndash\; but never at the expense of the music\; whatever the style\, the music is central and performed with utmost dedication\, skill and excellence. Great Lakes Center for the Arts 800 Bay Harbor Drive Petoskey\, MI 49770 For tickets and more information visit greatlakescfa.org\, e-mail tickets@greatlakescfa.org\, or call 231.439.2610.
LOCATION:Great Lakes Center for the Arts 800 Bay Harbor Drive Petoskey\, MI 49770
UID:e.1716.12893
SEQUENCE:3
DTSTAMP:20260420T191755Z
URL:http://business.charlevoix.org/events/details/canadian-brass-12893
END:VEVENT

END:VCALENDAR
