BEGIN:VCALENDAR
VERSION:2.0
PRODID:-//ChamberMaster//Event Calendar 2.0//EN
METHOD:PUBLISH
X-PUBLISHED-TTL:P3D
REFRESH-INTERVAL:P3D
CALSCALE:GREGORIAN
BEGIN:VEVENT
DTSTART:20200224T180000Z
DTEND:20200225T000000Z
X-MICROSOFT-CDO-ALLDAYEVENT:FALSE
SUMMARY:Charlevoix Elks Club Blood Drive
DESCRIPTION:Join us in the Community Room for a day of saving lives! Each donation can save three patients- thank you for your time and generosity.\n\n\n\nFor an APPT: call 1-866-Mi-Blood or log onto Versiti.org/Michigan
X-ALT-DESC;FMTTYPE=text/html:Join us in the Community Room for a day of saving lives! Each donation can save three patients- thank you for your time and generosity.<br />\n<br />\nFor an APPT: call 1-866-Mi-Blood or log onto Versiti.org/Michigan
LOCATION:
UID:e.1716.12925
SEQUENCE:3
DTSTAMP:20260420T205245Z
URL:http://business.charlevoix.org/events/details/charlevoix-elks-club-blood-drive-12925
END:VEVENT

END:VCALENDAR
