BEGIN:VCALENDAR
VERSION:2.0
PRODID:-//ChamberMaster//Event Calendar 2.0//EN
METHOD:PUBLISH
X-PUBLISHED-TTL:P3D
REFRESH-INTERVAL:P3D
CALSCALE:GREGORIAN
BEGIN:VEVENT
DTSTART:20200322T180000Z
DTEND:20200322T200000Z
X-MICROSOFT-CDO-ALLDAYEVENT:FALSE
SUMMARY:Charlevoix Performing Arts: Mamma Mia!
DESCRIPTION:Charlevoix Performing Arts will present its spring musical\, Mamma Mia! for three shows Friday-Sunday\, March 20-22 at the Charlevoix Middle/High School Auditorium. \n\n\n\nShowtimes are 7 p.m. on Friday and Saturday and 2 p.m. on Sunday. Tickets\, to be sold at the door\, are $10 for adults and $5 for senior citizens and students. The Sunday matinee will also have a family admission special of $20.00 (2 adults and 2+ children/students).\n\n\n\nMamma Mia! is a jukebox musical written by British playwright Catherine Johnson\, based on the songs of ABBA composed by Benny Andersson and Bj rn Ulvaeus\, former members of the band. The title of the musical is taken from the group's 1975 chart-topper "Mamma Mia".\n\n\n\nStudents playing lead characters in the production include: Maya Whitley as "Sophie\," Helen Hanchin as "Donna\," Margaret Sheets as "Tanya\," Avery McCreadie as "Rosie\," Liam Speer as "Sky\," Dominic Schwein as "Harry Bright\," David Hitts as "Bill Austin\," and Sean Bradley as "Sam Carmichael".\n\n\n\nIn all\, about 30 high school and middle school students make up the cast and crew\, with direction and choreography by Jodi Thompson and Emily Chapdelaine.\n\nIf you have any questions about the show\, please see our facebook page\, Charlevoix Performing Arts.
X-ALT-DESC;FMTTYPE=text/html:<span style="font-size:12px\;"><span style="font-family:arial\;"><span style="color:#1D2129\;">Charlevoix Performing Arts will present its spring musical\, Mamma Mia! for three shows Friday-Sunday\, March 20-22 at the Charlevoix Middle/High School Auditorium. </span><br style="white-space:pre-wrap\;" />\n<br style="white-space:pre-wrap\;" />\n<span style="white-space:pre-wrap\;">Showtimes are 7 p.m. on Friday and Saturday and 2 p.m. on Sunday. Tickets\, to be sold at the door\, are $10 for adults and $5 for senior citizens and students. The Sunday matinee will also have a family admission special of $20.00 (2 adults and 2+ children/students).</span><br style="white-space:pre-wrap\;" />\n<br style="white-space:pre-wrap\;" />\n<span style="white-space:pre-wrap\;">Mamma Mia! is a jukebox musical written by British playwright Catherine Johnson\, based on the songs of ABBA composed by Benny Andersson and Bj&ouml\;rn Ulvaeus\, former members of the band. The title of the musical is taken from the group&#39\;s 1975 chart-topper &quot\;Mamma Mia&quot\;.</span><br style="white-space:pre-wrap\;" />\n<br style="white-space:pre-wrap\;" />\n<span style="white-space:pre-wrap\;">Students playing lead characters in the production include: Maya Whitley as &ldquo\;Sophie\,&rdquo\; Helen Hanchin as &ldquo\;Donna\,&rdquo\; Margaret Sheets as &ldquo\;Tanya\,&rdquo\; Avery McCreadie as &ldquo\;Rosie\,&rdquo\; Liam Speer as &ldquo\;Sky\,&rdquo\; Dominic Schwein as &ldquo\;Harry Bright\,&rdquo\; David Hitts as &ldquo\;Bill Austin\,&rdquo\; and Sean Bradley as &ldquo\;Sam Carmichael&rdquo\;.</span><br style="white-space:pre-wrap\;" />\n<br style="white-space:pre-wrap\;" />\n<span style="white-space:pre-wrap\;">In all\, about 30 high school and middle school students make up the cast and crew\, with direction and choreography by Jodi Thompson and Emily Chapdelaine.</span><br />\n<span style="color:#1D2129\;"><span style="white-space:pre-wrap\;">If you have any questions about the show\, please see our facebook page\, Charlevoix Performing Arts.</span></span></span></span>
LOCATION:
UID:e.1716.12952
SEQUENCE:3
DTSTAMP:20260420T191902Z
URL:http://business.charlevoix.org/events/details/charlevoix-performing-arts-mamma-mia-12952
END:VEVENT

END:VCALENDAR
