BEGIN:VCALENDAR
VERSION:2.0
PRODID:-//ChamberMaster//Event Calendar 2.0//EN
METHOD:PUBLISH
X-PUBLISHED-TTL:P3D
REFRESH-INTERVAL:P3D
CALSCALE:GREGORIAN
BEGIN:VEVENT
DTSTART:20150221T170000Z
DTEND:20150221T190000Z
X-MICROSOFT-CDO-ALLDAYEVENT:FALSE
SUMMARY:Dogman Challenge Fat Bike Race
DESCRIPTION:Revolution Bike in Charlevoix will host the 3RD Annual Dogman Challenge Fat Bike Race at Mt. McSauba on Saturday\, February 21\, 2015.  The Dogman Challenge is a 2 hour race that will begin with a mass start at noon at the base of the mountain. The course is a fast and challenging 2 mile loop through the single track trails of Mt McSauba Recreation Area and North Point Nature Preserve.\n\n\n\nCash Prizes\, Awards\, Food & Beverages\, Cool Prizes\, and More!  \n\n\n\nRegistration is open at www.OneStopRace.com.\n\n\n\nFor details contact Revolution Bike at 231.237.0900 or art.bicycles@yahoo.com or like the Dogman Challenge of FaceBook.\n\n\n\nClick Here for Sponsorship Opportunities\n\n\n\nThe Dogman has been spotted at Mt McSauba.  Riders Beware!
X-ALT-DESC;FMTTYPE=text/html:Revolution Bike in Charlevoix will host the 3RD Annual Dogman&nbsp\;Challenge Fat Bike Race at Mt. McSauba&nbsp\;on Saturday\, February 21\, 2015. &nbsp\;The Dogman Challenge is a 2 hour race that will begin with a mass start at noon at the base of the mountain. The course is a fast and challenging 2 mile loop through the single track trails of Mt McSauba&nbsp\;Recreation Area and North Point Nature Preserve.<br />\n<br />\nCash Prizes\, Awards\, Food &amp\; Beverages\, Cool Prizes\, and More! &nbsp\;<br />\n<br />\nRegistration is open at <a href="https://www.onestoprace.com/Register/?event=30139">www.OneStopRace.com</a>.<br />\n<br />\nFor details contact Revolution Bike at 231.237.0900 or <a href="mailto:art.bicycles@yahoo.com">art.bicycles@yahoo.com</a> or like the Dogman Challenge of FaceBook.<br />\n<br />\n<u><strong><a href="http://cloud.chambermaster.com/userfiles/UserFiles/chambers/1716/File/SponsorshipLevels.pdf">Click Here for Sponsorship Opportunities</a></strong></u><br />\n<br />\nThe Dogman has been spotted at Mt McSauba. &nbsp\;Riders Beware!
LOCATION:Mt. McSauba & North Point Nature Preserve in Charlevoix
UID:e.1716.1059
SEQUENCE:3
DTSTAMP:20260424T172931Z
URL:http://business.charlevoix.org/events/details/dogman-challenge-fat-bike-race-02-21-2015-1059
END:VEVENT

END:VCALENDAR
