BEGIN:VCALENDAR
VERSION:2.0
PRODID:-//ChamberMaster//Event Calendar 2.0//EN
METHOD:PUBLISH
X-PUBLISHED-TTL:P3D
REFRESH-INTERVAL:P3D
CALSCALE:GREGORIAN
BEGIN:VEVENT
DTSTART:20200303T040000Z
DTEND:20200307T220000Z
X-MICROSOFT-CDO-ALLDAYEVENT:FALSE
SUMMARY:Exhibit: Best of the Charlevoix Photography Club
DESCRIPTION:Charlevoix Circle of Arts is thrilled to launch the 2020 exhibit year with the best of the Charlevoix Photography Club. Visit CHARLEVOIXCIRCLE.ORG to learn about photography related events scheduled during this show that will be on display until March 7. Exhibiting photographer Mike Schlitt will be speaking at the opening. Light fare and libations will be served from 5-7. We look forward to seeing you!
X-ALT-DESC;FMTTYPE=text/html:Charlevoix Circle of Arts is thrilled to launch the 2020 exhibit year with the best of the Charlevoix Photography Club. Visit CHARLEVOIXCIRCLE.ORG to learn about photography related events scheduled during this show that will be on display until March 7. Exhibiting photographer Mike Schlitt will be speaking at the opening. Light fare and libations will be served from 5-7. We look forward to seeing you!
LOCATION:109 Clinton Street\, Charlevoix\, MI 49720
UID:e.1716.12905
SEQUENCE:3
DTSTAMP:20260420T192335Z
URL:http://business.charlevoix.org/events/details/exhibit-best-of-the-charlevoix-photography-club-12905
END:VEVENT

END:VCALENDAR
