BEGIN:VCALENDAR
VERSION:2.0
PRODID:-//ChamberMaster//Event Calendar 2.0//EN
METHOD:PUBLISH
X-PUBLISHED-TTL:P3D
REFRESH-INTERVAL:P3D
CALSCALE:GREGORIAN
BEGIN:VEVENT
DTSTART:20200213T180000Z
DTEND:20200213T200000Z
X-MICROSOFT-CDO-ALLDAYEVENT:FALSE
SUMMARY:Farmland Protection Opportunities in Charlevoix County
DESCRIPTION:Little Traverse Conservancy has long made farmland protection a priority in our service area due to its scenic\, historical\, and economic values. Join Director of Land Protection Caitlin Donnelly to learn more about funding opportunities to protect private farmland usingg local\, state and federal funding. Members of the Harwood Gold family will be there to comment on their experience with the Conservancy and how it helped them transition their farm from one generation to the next. Light snacks and beverages will be provided. This event is offered at no charge\, but pre-registration is requested by calling 231.347.0991 or online at www.landtrust.org.
X-ALT-DESC;FMTTYPE=text/html:Little Traverse Conservancy has long made farmland protection a priority in our service area due to its scenic\, historical\, and economic values. Join Director of Land Protection Caitlin Donnelly to learn more about funding opportunities to protect private farmland usingg local\, state and federal funding. Members of the Harwood Gold family will be there to comment on their experience with the Conservancy and how it helped them transition their farm from one generation to the next. Light snacks and beverages will be provided. This event is offered at no charge\, but pre-registration is requested by calling 231.347.0991 or online at www.landtrust.org.
LOCATION:Harwood Gold Cafe
UID:e.1716.12874
SEQUENCE:3
DTSTAMP:20260420T205335Z
URL:http://business.charlevoix.org/events/details/farmland-protection-opportunities-in-charlevoix-county-12874
END:VEVENT

END:VCALENDAR
