BEGIN:VCALENDAR
VERSION:2.0
PRODID:-//ChamberMaster//Event Calendar 2.0//EN
METHOD:PUBLISH
X-PUBLISHED-TTL:P3D
REFRESH-INTERVAL:P3D
CALSCALE:GREGORIAN
BEGIN:VEVENT
DTSTART:20200213T230000Z
DTEND:20200214T010000Z
X-MICROSOFT-CDO-ALLDAYEVENT:FALSE
SUMMARY:Floral Design Class!
DESCRIPTION:Part of our Floral Design Class series. Explore texture and loose organic design working within a Valentine's Day inspired color palette while designing in a silver julep vase. If you have any interesting branches\, dried pods\, berries\, or greenery peeping through the snow bring it along! Indoor plant clippings are also fun to incorporate. Large leaves or trailing vines make for great design elements... Inspiration is everywhere! All materials included. With Larissa Flynn. Register by Feb. 1st!
X-ALT-DESC;FMTTYPE=text/html:Part of our Floral Design Class series. Explore texture and loose organic design working within a Valentine&rsquo\;s Day inspired color palette while designing in a silver julep vase. If you have any interesting branches\, dried pods\, berries\, or greenery peeping through the snow bring it along! Indoor plant clippings are also fun to incorporate. Large leaves or trailing vines make for great design elements... Inspiration is everywhere! All materials included. With Larissa Flynn. Register by Feb. 1st!
LOCATION:Charlevoix Circle of Arts
UID:e.1716.12903
SEQUENCE:3
DTSTAMP:20260422T090355Z
URL:http://business.charlevoix.org/events/details/floral-design-class-12903
END:VEVENT

END:VCALENDAR
