BEGIN:VCALENDAR
VERSION:2.0
PRODID:-//ChamberMaster//Event Calendar 2.0//EN
METHOD:PUBLISH
X-PUBLISHED-TTL:P3D
REFRESH-INTERVAL:P3D
CALSCALE:GREGORIAN
BEGIN:VEVENT
DTSTART:20200321T020000Z
DTEND:20200321T210000Z
X-MICROSOFT-CDO-ALLDAYEVENT:FALSE
SUMMARY:Friske 2nd Annual Spring Sale Days
DESCRIPTION:Pick Friske apples out of bulk crates for U-Pick prices or LESS! Under 25 lbs  Honey Crisp & Gold. Rush $1.49 lb  All other varieties 99  lb Over 25 lbs  Honey Crisp & Gold Rush $1.25 lb  All other varieties 75  lb AND 50  Donuts (please call ahead for larger quantities) Cider $5/Gallon BOGO Pizza! Buy 1 get 1 50% off (of equal or lesser value)
X-ALT-DESC;FMTTYPE=text/html:Pick Friske apples out of bulk crates for U-Pick prices or LESS! Under 25 lbs &bull\;Honey Crisp &amp\; Gold. Rush $1.49 lb &bull\;All other varieties 99&cent\; lb Over 25 lbs &bull\;Honey Crisp &amp\; Gold Rush $1.25 lb &bull\;All other varieties 75&cent\; lb AND 50&cent\; Donuts (please call ahead for larger quantities) Cider $5/Gallon BOGO Pizza! Buy 1 get 1 50% off (of equal or lesser value)
LOCATION:Friske Farm Market 10 Miles South of Charlevoix on US 31 in Atwood
UID:e.1716.12933
SEQUENCE:3
DTSTAMP:20260420T191752Z
URL:http://business.charlevoix.org/events/details/friske-2nd-annual-spring-sale-days-12933
END:VEVENT

END:VCALENDAR
