BEGIN:VCALENDAR
VERSION:2.0
PRODID:-//ChamberMaster//Event Calendar 2.0//EN
METHOD:PUBLISH
X-PUBLISHED-TTL:P3D
REFRESH-INTERVAL:P3D
CALSCALE:GREGORIAN
BEGIN:VEVENT
DTSTART:20200215T160000Z
DTEND:20200215T170000Z
X-MICROSOFT-CDO-ALLDAYEVENT:FALSE
SUMMARY:Gallery Talk with Photographer Bill Higgins
DESCRIPTION:"Winter Photography in Northern Michigan": The "Winter Photography in Northern Michigan" presentation will discuss the many benefits to photographing in Winter\, gear survival tips\, personal survival tips and shooting strategies for capturing Winter Landscapes. The presentation will conclude with suggestions and examples from various locations throughout Northern Michigan to practice your winter photography skills. Located in Charlevoix Circle of Arts Exhibit Gallery. Presentation and Q&A.
X-ALT-DESC;FMTTYPE=text/html:&quot\;Winter Photography in Northern Michigan&quot\;: The &ldquo\;Winter Photography in Northern Michigan&rdquo\; presentation will discuss the many benefits to photographing in Winter\, gear survival tips\, personal survival tips and shooting strategies for capturing Winter Landscapes. The presentation will conclude with suggestions and examples from various locations throughout Northern Michigan to practice your winter photography skills. Located in Charlevoix Circle of Arts Exhibit Gallery. Presentation and Q&amp\;A.
LOCATION:109 Clinton Street Charlevoix\, MI 49720
UID:e.1716.12917
SEQUENCE:3
DTSTAMP:20260420T205123Z
URL:http://business.charlevoix.org/events/details/gallery-talk-with-photographer-bill-higgins-12917
END:VEVENT

END:VCALENDAR
