BEGIN:VCALENDAR
VERSION:2.0
PRODID:-//ChamberMaster//Event Calendar 2.0//EN
METHOD:PUBLISH
X-PUBLISHED-TTL:P3D
REFRESH-INTERVAL:P3D
CALSCALE:GREGORIAN
BEGIN:VEVENT
DTSTART:20200201T160000Z
DTEND:20200201T170000Z
X-MICROSOFT-CDO-ALLDAYEVENT:FALSE
SUMMARY:Gallery Talk with Photography John Doskoch
DESCRIPTION:"A Flying Camera's View of Charlevoix the Beautiful": Drones can offer fantastic views and inspiring new perspectives. See a presentation of awesome images of Charlevoix\, taken by commercially licensed drone pilot and photographer John E Doskoch. John will also be open to any questions on drones\, their operation\, offer photography tips and more. Located in Charlevoix Circle of Arts Exhibit Gallery. Presentation and Q&A.
X-ALT-DESC;FMTTYPE=text/html:&quot\;A Flying Camera&rsquo\;s View of Charlevoix the Beautiful&quot\;: Drones can offer fantastic views and inspiring new perspectives. See a presentation of awesome images of Charlevoix\, taken by commercially licensed drone pilot and photographer John E Doskoch. John will also be open to any questions on drones\, their operation\, offer photography tips and more. Located in Charlevoix Circle of Arts Exhibit Gallery. Presentation and Q&amp\;A.
LOCATION:109 Clinton St\, Charlevoix\, MI 49720
UID:e.1716.12916
SEQUENCE:3
DTSTAMP:20260420T205129Z
URL:http://business.charlevoix.org/events/details/gallery-talk-with-photography-john-doskoch-12916
END:VEVENT

END:VCALENDAR
