BEGIN:VCALENDAR
VERSION:2.0
PRODID:-//ChamberMaster//Event Calendar 2.0//EN
METHOD:PUBLISH
X-PUBLISHED-TTL:P3D
REFRESH-INTERVAL:P3D
CALSCALE:GREGORIAN
BEGIN:VEVENT
DTSTART:20200322T200000Z
DTEND:20200322T213000Z
X-MICROSOFT-CDO-ALLDAYEVENT:FALSE
SUMMARY:GLCO: Sunday Series- POSTPONED
DESCRIPTION:Enjoy free chamber music Sunday\, March 22 at 4 pm at First Congregational Church\, Charlevoix. The program includes Brass Quintet members: Pat Jarve\, Carl Hawkins\, Bev Isenbarger\, Vern Campbell\, and Ed Bahr performing Paul Duka's Fanfare from La Peri\, Victor Ewald's Quintet No. 1\, Lowell Shaw's Pocket Full of Wry\, and Leonard Lebow's Popular Suite. Also performing are the Drumheads with Tim Mocny\, Ken Yagiela\, and Kevin Stobbe. This trio comes together from diverse backgrounds to bring a unity to percussion drums. Sunday Series provides free chamber music with small ensembles of musicians from the orchestra. The venue location rotates throughout northern Michigan  neighborhoods. Generous support for the Sunday Series is provided by Carolyn Klender.
X-ALT-DESC;FMTTYPE=text/html:Enjoy free chamber music Sunday\, March 22 at 4 pm at First Congregational Church\, Charlevoix. The program includes Brass Quintet members: Pat Jarve\, Carl Hawkins\, Bev Isenbarger\, Vern Campbell\, and Ed Bahr performing Paul Duka&#39\;s Fanfare from La Peri\, Victor Ewald&#39\;s Quintet No. 1\, Lowell Shaw&#39\;s Pocket Full of Wry\, and Leonard Lebow&#39\;s Popular Suite. Also performing are the Drumheads with Tim Mocny\, Ken Yagiela\, and Kevin Stobbe. This trio comes together from diverse backgrounds to bring a unity to percussion drums. Sunday Series provides free chamber music with small ensembles of musicians from the orchestra. The venue location rotates&nbsp\;throughout&nbsp\;northern Michigan&nbsp\; neighborhoods.&nbsp\;Generous support for the Sunday Series is provided by Carolyn Klender.
LOCATION:First Congregational Church 101 State St\, Charlevoix
UID:e.1716.12938
SEQUENCE:3
DTSTAMP:20260420T191752Z
URL:http://business.charlevoix.org/events/details/glco-sunday-series-postponed-12938
END:VEVENT

END:VCALENDAR
