BEGIN:VCALENDAR
VERSION:2.0
PRODID:-//ChamberMaster//Event Calendar 2.0//EN
METHOD:PUBLISH
X-PUBLISHED-TTL:P3D
REFRESH-INTERVAL:P3D
CALSCALE:GREGORIAN
BEGIN:VEVENT
DTSTART:20200223T210000Z
DTEND:20200223T220000Z
X-MICROSOFT-CDO-ALLDAYEVENT:FALSE
SUMMARY:GLCO Sunday Series: Violin\, Horn\, Piano Trio
DESCRIPTION:Sunday Series provides free chamber music with small ensembles of musicians from the orchestra. The venue location rotates throughout northern Michigan neighborhoods. Generous support for the Sunday Series is provided by Carolyn Klender.
X-ALT-DESC;FMTTYPE=text/html:Sunday Series provides free chamber music with small ensembles of musicians from the orchestra. The venue location rotates throughout northern Michigan neighborhoods. Generous support for the Sunday Series is provided by Carolyn Klender.
LOCATION:First Presbyterian Church 501 E. Mitchell St Petoskey\, MI 49770
UID:e.1716.12877
SEQUENCE:3
DTSTAMP:20260420T205247Z
URL:http://business.charlevoix.org/events/details/glco-sunday-series-violin-horn-piano-trio-12877
END:VEVENT

END:VCALENDAR
