BEGIN:VCALENDAR
VERSION:2.0
PRODID:-//ChamberMaster//Event Calendar 2.0//EN
METHOD:PUBLISH
X-PUBLISHED-TTL:P3D
REFRESH-INTERVAL:P3D
CALSCALE:GREGORIAN
BEGIN:VEVENT
DTSTART:20200307T180000Z
DTEND:20200307T190000Z
X-MICROSOFT-CDO-ALLDAYEVENT:FALSE
SUMMARY:GLCO Young Children's Library Series "Building Blocks of Music" #6
DESCRIPTION:March 7\, 2020 -Strings/Melody- The final session! Open to the public\, and free of charge\, this program is designed to introduce young children to music in an entertaining setting. The 45-minute sessions provides a variety of opportunities for children to discover their own unique gifts and interests through interactive activities with GLCO musicians including story-telling\, directed listening\, sing-a-longs\, chant\, movement & dance\, imitation and rhythm games in a playful and supportive setting. Parents and caregivers are an important part of this process. Please come jam with us! (Appropriate for children ages 4   10)
X-ALT-DESC;FMTTYPE=text/html:March 7\, 2020 -Strings/Melody- The final session! Open to the public\, and free of charge\, this program is designed to introduce young children to music in an entertaining setting. The 45-minute sessions provides a variety of opportunities for children to discover their own unique gifts and interests through interactive activities with GLCO musicians including story-telling\, directed listening\, sing-a-longs\, chant\, movement &amp\; dance\, imitation and rhythm games in a playful and supportive setting. Parents and caregivers are an important part of this process. Please come jam with us! (Appropriate for children ages 4 &ndash\; 10)
LOCATION:Boyne District Library Main St Boyne City\, MI 49712
UID:e.1716.12878
SEQUENCE:3
DTSTAMP:20260420T192216Z
URL:http://business.charlevoix.org/events/details/glco-young-children-s-library-series-building-blocks-of-music-6-12878
END:VEVENT

END:VCALENDAR
