BEGIN:VCALENDAR
VERSION:2.0
PRODID:-//ChamberMaster//Event Calendar 2.0//EN
METHOD:PUBLISH
X-PUBLISHED-TTL:P3D
REFRESH-INTERVAL:P3D
CALSCALE:GREGORIAN
BEGIN:VEVENT
DTSTART:20200211T233000Z
DTEND:20200212T010000Z
X-MICROSOFT-CDO-ALLDAYEVENT:FALSE
SUMMARY:Hot Topics-Human Trafficking
DESCRIPTION:Trooper Hebner will discuss the basics of what human trafficking is\, what forms we can see in our community\, what efforts law enforcement has made\, and what we can do to become supportive of law enforcement's efforts.
X-ALT-DESC;FMTTYPE=text/html:Trooper Hebner will discuss the basics of what human trafficking is\, what forms we can see in our community\, what efforts law enforcement has made\, and what we can do to become supportive of law enforcement&rsquo\;s efforts.
LOCATION:Charlevoix Public Library
UID:e.1716.12887
SEQUENCE:3
DTSTAMP:20260420T204929Z
URL:http://business.charlevoix.org/events/details/hot-topics-human-trafficking-12887
END:VEVENT

END:VCALENDAR
