BEGIN:VCALENDAR
VERSION:2.0
PRODID:-//ChamberMaster//Event Calendar 2.0//EN
METHOD:PUBLISH
X-PUBLISHED-TTL:P3D
REFRESH-INTERVAL:P3D
CALSCALE:GREGORIAN
BEGIN:VEVENT
DTSTART:20200204T233000Z
DTEND:20200205T010000Z
X-MICROSOFT-CDO-ALLDAYEVENT:FALSE
SUMMARY:Hot Topics Series-Conspiracy Theories & Fake News
DESCRIPTION:Join NCMC political science professor Scott LaDeur as he examines why so many people believe claims about a faked moon landing\, the rigging of voting machines\, the "truth" about 9/11\, and President Obama's birthplace. He will also look at conspiratorial thinking and the power of "fake news" to create new realities for voters.
X-ALT-DESC;FMTTYPE=text/html:Join NCMC political science professor Scott LaDeur as he examines why so many people believe claims about a faked moon landing\, the rigging of voting machines\, the &ldquo\;truth&rdquo\; about 9/11\, and President Obama&rsquo\;s birthplace. He will also look at conspiratorial thinking and the power of &ldquo\;fake news&rdquo\; to create new realities for voters.
LOCATION:Charlevoix Public Library
UID:e.1716.12886
SEQUENCE:3
DTSTAMP:20260420T205527Z
URL:http://business.charlevoix.org/events/details/hot-topics-series-conspiracy-theories-fake-news-12886
END:VEVENT

END:VCALENDAR
