BEGIN:VCALENDAR
VERSION:2.0
PRODID:-//ChamberMaster//Event Calendar 2.0//EN
METHOD:PUBLISH
X-PUBLISHED-TTL:P3D
REFRESH-INTERVAL:P3D
CALSCALE:GREGORIAN
BEGIN:VEVENT
DTSTART:20200218T233000Z
DTEND:20200219T010000Z
X-MICROSOFT-CDO-ALLDAYEVENT:FALSE
SUMMARY:Hot Topics Series-Immigration Law
DESCRIPTION:Immigration lawyer\, Mary O'Leary-Larsen\, will explain the complexities of our immigration system to foster a better understanding of why the path to citizenship can be difficult for so many.
X-ALT-DESC;FMTTYPE=text/html:Immigration lawyer\, Mary O&rsquo\;Leary-Larsen\, will explain the complexities of our immigration system to foster a better understanding of why the path to citizenship can be difficult for so many.
LOCATION:Charlevoix Public Library
UID:e.1716.12888
SEQUENCE:3
DTSTAMP:20260420T205209Z
URL:http://business.charlevoix.org/events/details/hot-topics-series-immigration-law-12888
END:VEVENT

END:VCALENDAR
