BEGIN:VCALENDAR
VERSION:2.0
PRODID:-//ChamberMaster//Event Calendar 2.0//EN
METHOD:PUBLISH
X-PUBLISHED-TTL:P3D
REFRESH-INTERVAL:P3D
CALSCALE:GREGORIAN
BEGIN:VEVENT
DTSTART:20200130T170000Z
DTEND:20200130T180000Z
X-MICROSOFT-CDO-ALLDAYEVENT:FALSE
SUMMARY:‘Ice Breaker’ Series Presents “Septic Smarts and Michigan’s Waters”
DESCRIPTION:Tip of the Mitt Watershed Council invites the public to join the conversation around septic system health in Northern Michigan as part of its Ice Breaker Winter Speaker Series. On January 30 from noon to 1 p.m.\, Scott Kendzierski\, director of Environmental Health Services at the Health Department of Northwest Michigan\, will be presenting on septic system functioning and maintenance\, and how failing septic systems can be a health threat. "I think it's an opportunity for people to have a better understanding of wastewater systems in general\, and the threat to the environment when they're not maintained properly\," said Kendzierski of his upcoming talk. The talk will take place at the Tip of the Mitt Watershed Council office in downtown Petoskey. Space is limited\, so call (231) 347-1181 to reserve your spot.
X-ALT-DESC;FMTTYPE=text/html:Tip of the Mitt Watershed Council invites the public to join the conversation around septic system health in Northern Michigan as part of its Ice Breaker Winter Speaker Series. On January 30 from noon to 1 p.m.\, Scott Kendzierski\, director of Environmental Health Services at the Health Department of Northwest Michigan\, will be presenting on septic system functioning and maintenance\, and how failing septic systems can be a health threat. &ldquo\;I think it&rsquo\;s an opportunity for people to have a better understanding of wastewater systems in general\, and the threat to the environment when they&rsquo\;re not maintained properly\,&rdquo\; said Kendzierski of his upcoming talk. The talk will take place at the Tip of the Mitt Watershed Council office in downtown Petoskey. Space is limited\, so call (231) 347-1181 to reserve your spot.
LOCATION:Tip of the Mitt Watershed Council 426 Bay St. Petoskey\, MI 49770
UID:e.1716.12912
SEQUENCE:3
DTSTAMP:20260420T221051Z
URL:http://business.charlevoix.org/events/details/ice-breaker-series-presents-septic-smarts-and-michigan-s-waters-12912
END:VEVENT

END:VCALENDAR
