BEGIN:VCALENDAR
VERSION:2.0
PRODID:-//ChamberMaster//Event Calendar 2.0//EN
METHOD:PUBLISH
X-PUBLISHED-TTL:P3D
REFRESH-INTERVAL:P3D
CALSCALE:GREGORIAN
BEGIN:VEVENT
DTSTART:20200229T003000Z
DTEND:20200229T023000Z
X-MICROSOFT-CDO-ALLDAYEVENT:FALSE
SUMMARY:Interlochen Arts Academy Dance Company's The Sleeping Beauty
DESCRIPTION:Join the Interlochen Arts Academy Dance Company as they present the classic story of The Sleeping Beauty. One hundred years after Princess Aurora falls into an enchanted slumber\, the daring Prince Florimund embarks on a quest to break Carabosse's curse - encountering a familiar cast of fairytale characters along the way. Accompanied by Piotr Ilyich Tchaikovsky's beloved score and beautifully costumed by the Academy's professional designers\, the company will delight you with a ballet featuring a fresh adaptation of Marius Petipa's original choreography. Choreography and direction by Joseph Morrissey after Marius Pepita. Great Lakes Center for the Arts 800 Bay Harbor Drive Petoskey\, MI 49770 For tickets and more information visit greatlakescfa.org\, e-mail tickets@greatlakescfa.org\, or call 231.439.2610.
X-ALT-DESC;FMTTYPE=text/html:Join the Interlochen Arts Academy Dance Company as they present the classic story of The Sleeping Beauty. One hundred years after Princess Aurora falls into an enchanted slumber\, the daring Prince Florimund embarks on a quest to break Carabosse&rsquo\;s curse - encountering a familiar cast of fairytale characters along the way. Accompanied by Piotr Ilyich Tchaikovsky&#39\;s beloved score and beautifully costumed by the Academy&rsquo\;s professional designers\, the company will delight you with a ballet featuring a fresh adaptation of Marius Petipa&rsquo\;s original choreography. Choreography and direction by Joseph Morrissey after Marius Pepita. Great Lakes Center for the Arts 800 Bay Harbor Drive Petoskey\, MI 49770 For tickets and more information visit greatlakescfa.org\, e-mail tickets@greatlakescfa.org\, or call 231.439.2610.
LOCATION:Great Lakes Center for the Arts 800 Bay Harbor Drive Petoskey\, MI 49770
UID:e.1716.12892
SEQUENCE:3
DTSTAMP:20260420T205211Z
URL:http://business.charlevoix.org/events/details/interlochen-arts-academy-dance-company-s-the-sleeping-beauty-12892
END:VEVENT

END:VCALENDAR
