BEGIN:VCALENDAR
VERSION:2.0
PRODID:-//ChamberMaster//Event Calendar 2.0//EN
METHOD:PUBLISH
X-PUBLISHED-TTL:P3D
REFRESH-INTERVAL:P3D
CALSCALE:GREGORIAN
BEGIN:VEVENT
DTSTART:20200223T010000Z
DTEND:20200223T030000Z
X-MICROSOFT-CDO-ALLDAYEVENT:FALSE
SUMMARY:Live From Charlevoix: Jill Jack
DESCRIPTION:Live From Charlevoix presents Jill Jack! Come enjoy an awesome night of music at Charlevoix Cinema III.
X-ALT-DESC;FMTTYPE=text/html:Live From Charlevoix presents Jill Jack! Come enjoy an awesome night of music at Charlevoix Cinema III.&nbsp\;
LOCATION:Charlevoix Cinema III
UID:e.1716.12829
SEQUENCE:3
DTSTAMP:20260420T112349Z
URL:http://business.charlevoix.org/events/details/live-from-charlevoix-jill-jack-12829
END:VEVENT

END:VCALENDAR
