BEGIN:VCALENDAR
VERSION:2.0
PRODID:-//ChamberMaster//Event Calendar 2.0//EN
METHOD:PUBLISH
X-PUBLISHED-TTL:P3D
REFRESH-INTERVAL:P3D
CALSCALE:GREGORIAN
BEGIN:VEVENT
DTSTART:20200119T010000Z
DTEND:20200119T030000Z
X-MICROSOFT-CDO-ALLDAYEVENT:FALSE
SUMMARY:Live From Charlevoix- Three Men and a Tenor
DESCRIPTION:Live from Charlevoix presents Three Men and a Tenor! \n\nCome enjoy a great night of music at Charlevoix Cinema III\n\n\n\n\n\nGreat pop vocal music\, quick-witted humor and overall likeability make THREE MEN and a TENOR a unique show experience for audiences that cannot be matched. The group has a national touring schedule and has opened shows for national legends like Jay Leno and The Beach Boys\; performed the national anthem to start the NASCAR FireKeepers 400 on FS1\, and had its own national PBS-TV special ("Three Men and a Tenor- In Concert") that was shown across the country from Los Angeles to Nashville. 3MT was voted "Michigan's Best Entertainment" 4-times in 2017\, 2016\, 2011\, and 2006\, and twice toured Germany to perform at the US Military Bases for our troops and their families. THREE MEN and a TENOR has regularly sold-out shows at performing arts centers\, theatres\, and festivals and fairs for over 25 years with a powerful blend of vocal harmonies and feel-good music for all ages.
X-ALT-DESC;FMTTYPE=text/html:<span style="font-family: &quot\;palatino linotype&quot\;\, serif\; font-size: 16px\;">Live from Charlevoix presents Three Men and a Tenor!&nbsp\;<br />\nCome enjoy a great night of music at Charlevoix Cinema III<br />\n<br />\n<br />\nGreat pop vocal music\, quick-witted humor and overall likeability make THREE MEN and a TENOR a unique show experience for audiences that cannot be matched. The group has a national touring schedule and has opened shows for national legends like Jay Leno and The Beach Boys\; performed the national anthem to start the NASCAR FireKeepers 400 on FS1\, and had its own national PBS-TV special (&quot\;Three Men and a Tenor- In Concert&quot\;) that was shown across the country from Los Angeles to Nashville. 3MT was voted &quot\;Michigan&#39\;s Best Entertainment&quot\; 4-times in 2017\, 2016\, 2011\, and 2006\, and twice toured Germany to perform at the US Military Bases for our troops and their families. THREE MEN and a TENOR has regularly sold-out shows at performing arts centers\, theatres\, and festivals and fairs for over 25 years with a powerful blend of vocal harmonies and feel-good music for all ages.</span>
LOCATION:Charlevoix Cinema III
UID:e.1716.12828
SEQUENCE:3
DTSTAMP:20260420T220741Z
URL:http://business.charlevoix.org/events/details/live-from-charlevoix-three-men-and-a-tenor-12828
END:VEVENT

END:VCALENDAR
