BEGIN:VCALENDAR
VERSION:2.0
PRODID:-//ChamberMaster//Event Calendar 2.0//EN
METHOD:PUBLISH
X-PUBLISHED-TTL:P3D
REFRESH-INTERVAL:P3D
CALSCALE:GREGORIAN
BEGIN:VEVENT
DTSTART:20200310T223000Z
DTEND:20200311T000000Z
X-MICROSOFT-CDO-ALLDAYEVENT:FALSE
SUMMARY:Michigan History Series-Michigan's Lumbering Days
DESCRIPTION:Join Al & Dave Eicher as they share the history of lumbering in Michigan covering the first settlements and earliest forms of lumber harvesting. They will use a historic outline to show the progress from hand hewn logs to finished lumber...from water powered mills to the 1883 steam engines which powered most of the sawmills throughout lower Michigan.
X-ALT-DESC;FMTTYPE=text/html:Join Al &amp\; Dave Eicher as they share the history of lumbering in Michigan covering the first settlements and earliest forms of lumber harvesting. They will use a historic outline to show the progress from hand hewn logs to finished lumber...from water powered mills to the 1883 steam engines which powered most of the sawmills throughout lower Michigan.
LOCATION:Charlevoix Public Library-Community Room
UID:e.1716.12958
SEQUENCE:3
DTSTAMP:20260420T193653Z
URL:http://business.charlevoix.org/events/details/michigan-history-series-michigan-s-lumbering-days-12958
END:VEVENT

END:VCALENDAR
