BEGIN:VCALENDAR
VERSION:2.0
PRODID:-//ChamberMaster//Event Calendar 2.0//EN
METHOD:PUBLISH
X-PUBLISHED-TTL:P3D
REFRESH-INTERVAL:P3D
CALSCALE:GREGORIAN
BEGIN:VEVENT
DTSTART:20150222T200000Z
DTEND:20150222T220000Z
X-MICROSOFT-CDO-ALLDAYEVENT:FALSE
SUMMARY:Northern Michigan Brass Band Concert
DESCRIPTION:"Something for Everyone" performed by Northern Michigan's premiere brass ensemble. (Members of the Charlevoix High School Band will also participate.)
X-ALT-DESC;FMTTYPE=text/html:&quot\;Something for Everyone&quot\; performed by Northern Michigan&#39\;s premiere brass ensemble. (Members of the Charlevoix High School Band will also participate.)
LOCATION:First Congregational Church 101 State St. Charlevoix
UID:e.1716.2821
SEQUENCE:3
DTSTAMP:20260424T173259Z
URL:http://business.charlevoix.org/events/details/northern-michigan-brass-band-concert-02-22-2015-2821
END:VEVENT

END:VCALENDAR
