BEGIN:VCALENDAR
VERSION:2.0
PRODID:-//ChamberMaster//Event Calendar 2.0//EN
METHOD:PUBLISH
X-PUBLISHED-TTL:P3D
REFRESH-INTERVAL:P3D
CALSCALE:GREGORIAN
BEGIN:VEVENT
DTSTART:20200310T220000Z
DTEND:20200311T000000Z
X-MICROSOFT-CDO-ALLDAYEVENT:FALSE
SUMMARY:Paint-Along with Paige O'Leary!
DESCRIPTION:Join Paige O'Leary of Cottage Pottery as she walks you through each step in creating your own completed 16 x 20" painting! No experience necessary at all. Come join this fun painting class where all materials are included: aprons\, acrylic paint\, canvas and more! Participants are welcome to bring a snack and/or beverage of choice! Minimum of 4 to hold. Class Fee: $ 35 / person. Discount for members!
X-ALT-DESC;FMTTYPE=text/html:Join Paige O&#39\;Leary of Cottage Pottery as she walks you through each step in creating your own completed 16 x 20&quot\; painting! No experience necessary at all. Come join this fun painting class where all materials are included: aprons\, acrylic paint\, canvas and more! Participants are welcome to bring a snack and/or beverage of choice! Minimum of 4 to hold. Class Fee: $ 35 / person. Discount for members!
LOCATION:Charlevoix Circle of Arts: Garden Level Art Studio
UID:e.1716.13000
SEQUENCE:3
DTSTAMP:20260420T192032Z
URL:http://business.charlevoix.org/events/details/paint-along-with-paige-o-leary-03-10-2020-13000
END:VEVENT

END:VCALENDAR
