BEGIN:VCALENDAR
VERSION:2.0
PRODID:-//ChamberMaster//Event Calendar 2.0//EN
METHOD:PUBLISH
X-PUBLISHED-TTL:P3D
REFRESH-INTERVAL:P3D
CALSCALE:GREGORIAN
BEGIN:VEVENT
DTSTART:20200227T230000Z
DTEND:20200228T010000Z
X-MICROSOFT-CDO-ALLDAYEVENT:FALSE
SUMMARY:Paint-Along with Paige O'Leary
DESCRIPTION:Each month\, January-May\, on the 4th Thursday\, join Paige O'Leary as she walks you through each step in creating your own completed 16 x 20" painting! No experience necessary at all!\n\n\n\nCome join this fun painting class where all materials are included: aprons\, acrylic paint\, canvas and more! Class sizes limited to 12. Class Fee: $ 35 / person. Sign up HERE.\n\n\n\n4th Thursday in each month:\n\n\n\nJanuary 23\, 2020: "Love Grows Here"\n\nFebruary 27\, 2020: "Succulent"\n\nMarch 26\, 2020: "Sea Turtle"\n\nApril 23\, 2020: "Bowl of Cherries"\n\nMay 28\, 2020: "Catchin' Fireflies"
X-ALT-DESC;FMTTYPE=text/html:<span>Each month\, January-May\, on the 4th Thursday\, join Paige O&#39\;Leary as she walks you through each step in creating your own completed 16 x 20&quot\; painting! No experience necessary at all!<br />\n<br />\nCome join this fun painting class where all materials are included: aprons\, acrylic paint\, canvas and more! Class sizes limited to 12. Class Fee: $ 35 / person. Sign up <a href="http://www.charlevoixcircle.org/classes-workshops?fbclid=IwAR0QAQ18Dy9tVGT2oh6SkQ_66S6yylTHTjJv_HntHNGWfapQHkpiOY1NmTw">HERE</a>.<br />\n<br />\n4th Thursday in each month:<br />\n<br />\nJanuary 23\, 2020: &quot\;Love Grows Here&quot\;<br />\nFebruary 27\, 2020: &quot\;Succulent&quot\;<br />\nMarch 26\, 2020: &quot\;Sea Turtle&quot\;<br />\nApril 23\, 2020: &quot\;Bowl of Cherries&quot\;<br />\nMay 28\, 2020: &quot\;Catchin&#39\; Fireflies&quot\;</span>
LOCATION:
UID:e.1716.12881
SEQUENCE:3
DTSTAMP:20260420T205130Z
URL:http://business.charlevoix.org/events/details/paint-along-with-paige-o-leary-12881
END:VEVENT

END:VCALENDAR
