BEGIN:VCALENDAR
VERSION:2.0
PRODID:-//ChamberMaster//Event Calendar 2.0//EN
METHOD:PUBLISH
X-PUBLISHED-TTL:P3D
REFRESH-INTERVAL:P3D
CALSCALE:GREGORIAN
BEGIN:VEVENT
DTSTART:20200116T210000Z
DTEND:20200117T000000Z
X-MICROSOFT-CDO-ALLDAYEVENT:FALSE
SUMMARY:Pour for More: Hats off to Clean Water!
DESCRIPTION:Tip of the Mitt Watershed Council was selected by Pour For More to receive donations throughout 2020! To celebrate\, we're having an event at Rare Bird Brewpub in Traverse City on January 16 from 4 p.m. to 7 p.m. Stop by\, have a drink and some food\, and learn more about Watershed Council initiatives in northern Michigan. * Wear a crazy hat to show your support for protecting northern Michigan's waters and be entered to win a prize! * Make a $20 donation to the Watershed Council and receive a free Rare Bird beer or non-alcoholic beverage! * Try Rare Bird's featured Pour for More beer\, Kushy Punch!
X-ALT-DESC;FMTTYPE=text/html:Tip of the Mitt Watershed Council was selected by Pour For More to receive donations throughout 2020! To celebrate\, we&#39\;re having an event at Rare Bird Brewpub in Traverse City on January 16 from 4 p.m. to 7 p.m. Stop by\, have a drink and some food\, and learn more about Watershed Council initiatives in northern Michigan. * Wear a crazy hat to show your support for protecting northern Michigan&rsquo\;s waters and be entered to win a prize! * Make a $20 donation to the Watershed Council and receive a free Rare Bird beer or non-alcoholic beverage! * Try Rare Bird&#39\;s featured Pour for More beer\, Kushy Punch!
LOCATION:Rare Bird Brewpub 229 Lake Ave. Traverse City\, MI 49684
UID:e.1716.12895
SEQUENCE:3
DTSTAMP:20260420T220919Z
URL:http://business.charlevoix.org/events/details/pour-for-more-hats-off-to-clean-water-12895
END:VEVENT

END:VCALENDAR
