BEGIN:VCALENDAR
VERSION:2.0
PRODID:-//ChamberMaster//Event Calendar 2.0//EN
METHOD:PUBLISH
X-PUBLISHED-TTL:P3D
REFRESH-INTERVAL:P3D
CALSCALE:GREGORIAN
BEGIN:VEVENT
DTSTART:20200305T233000Z
DTEND:20200306T020000Z
X-MICROSOFT-CDO-ALLDAYEVENT:FALSE
SUMMARY:Should I Stay or Should I Go?
DESCRIPTION:St. Michael Academy welcomes Mary Rice Hasson as she comes to Petoskey to discuss her best-selling book Get Out Now\, which addresses the di?culties that public schools are currently facing. Ms. Hasson is the Director of the Catholic Women's Forum\, which is an organization that prides itself in helping women spread their message of human dignity\, authentic freedom\, and Catholic social teaching. She is also an expert on topics at the intersection of faith\, family\, feminism\, and human sexuality.
X-ALT-DESC;FMTTYPE=text/html:St. Michael Academy welcomes Mary Rice Hasson as she comes to Petoskey to discuss her best-selling book <em>Get Out Now</em>\, which addresses the di?culties that public schools are currently facing. Ms. Hasson is the Director of the Catholic Women&rsquo\;s Forum\, which is an organization that prides itself in helping women spread their message of human dignity\, authentic freedom\, and Catholic social teaching. She is also an expert on topics at the intersection of faith\, family\, feminism\, and human sexuality.
LOCATION:Grand Unity Hall 1106 Charlevoix Avenue\, Petoskey\, MI 49770
UID:e.1716.12961
SEQUENCE:3
DTSTAMP:20260420T012709Z
URL:http://business.charlevoix.org/events/details/should-i-stay-or-should-i-go-12961
END:VEVENT

END:VCALENDAR
