BEGIN:VCALENDAR
VERSION:2.0
PRODID:-//ChamberMaster//Event Calendar 2.0//EN
METHOD:PUBLISH
X-PUBLISHED-TTL:P3D
REFRESH-INTERVAL:P3D
CALSCALE:GREGORIAN
BEGIN:VEVENT
DTSTART:20150222T050000Z
DTEND:20150222T090000Z
X-MICROSOFT-CDO-ALLDAYEVENT:FALSE
SUMMARY:Soup's On Soup Cook Off Card Party
DESCRIPTION:Sample an array of Soups Vote for your favorite Card and Board Games plus a Bake Sale and Bazaar ADMISSION $5.00 PER PERSON
X-ALT-DESC;FMTTYPE=text/html:Sample an array of Soups Vote for your favorite Card and Board Games plus a Bake Sale and Bazaar ADMISSION $5.00 PER PERSON
LOCATION:St Mary's Parish Hall 1003 Bridge Street Charlevoix Mi
UID:e.1716.2822
SEQUENCE:3
DTSTAMP:20260424T172508Z
URL:http://business.charlevoix.org/events/details/soup-s-on-soup-cook-off-card-party-02-22-2015-2822
END:VEVENT

END:VCALENDAR
