BEGIN:VCALENDAR
VERSION:2.0
PRODID:-//ChamberMaster//Event Calendar 2.0//EN
METHOD:PUBLISH
X-PUBLISHED-TTL:P3D
REFRESH-INTERVAL:P3D
CALSCALE:GREGORIAN
BEGIN:VEVENT
DTSTART:20200320T210000Z
DTEND:20200320T230000Z
X-MICROSOFT-CDO-ALLDAYEVENT:FALSE
SUMMARY:St. Mary Fish Fry
DESCRIPTION:Menu includes: Fried and baked fish\, provided by John Cross Fisheries\, macaroni and cheese\, french fries or baked potato\, coleslaw\, roll and homemade desserts.
X-ALT-DESC;FMTTYPE=text/html:Menu includes: Fried and baked fish\, provided by John Cross Fisheries\, macaroni and cheese\, french fries or baked potato\, coleslaw\, roll and homemade desserts.
LOCATION:St. Mary Family Center 1003 Bridge Street Charlevoix\, Michigan
UID:e.1716.12915
SEQUENCE:3
DTSTAMP:20260420T192032Z
URL:http://business.charlevoix.org/events/details/st-mary-fish-fry-03-20-2020-12915
END:VEVENT

END:VCALENDAR
