BEGIN:VCALENDAR
VERSION:2.0
PRODID:-//ChamberMaster//Event Calendar 2.0//EN
METHOD:PUBLISH
X-PUBLISHED-TTL:P3D
REFRESH-INTERVAL:P3D
CALSCALE:GREGORIAN
BEGIN:VEVENT
DTSTART:20200228T220000Z
DTEND:20200229T000000Z
X-MICROSOFT-CDO-ALLDAYEVENT:FALSE
SUMMARY:St. Mary Fish Fry
DESCRIPTION:Menu includes: Fried or baked fish\, provided by John Cross Fisheries\, macaroni and cheese\, french fries or baked potato\, coleslaw\, roll and homemade desserts. Adults $13\, Children 10 and under $7\, Family $40.
X-ALT-DESC;FMTTYPE=text/html:Menu includes: Fried or baked fish\, provided by John Cross Fisheries\, macaroni and cheese\, french fries or baked potato\, coleslaw\, roll and homemade desserts. Adults $13\, Children 10 and under $7\, Family $40.
LOCATION:St. Mary Family Center 1003 Bridge Street Charlevoix\, MI
UID:e.1716.12913
SEQUENCE:3
DTSTAMP:20260420T205124Z
URL:http://business.charlevoix.org/events/details/st-mary-fish-fry-12913
END:VEVENT

END:VCALENDAR
