BEGIN:VCALENDAR
VERSION:2.0
PRODID:-//ChamberMaster//Event Calendar 2.0//EN
METHOD:PUBLISH
X-PUBLISHED-TTL:P3D
REFRESH-INTERVAL:P3D
CALSCALE:GREGORIAN
BEGIN:VEVENT
DTSTART:20200421T220000Z
DTEND:20200421T230000Z
X-MICROSOFT-CDO-ALLDAYEVENT:FALSE
SUMMARY:St. Mary School Open House
DESCRIPTION:St. Mary School is having an all school open house! Registration is open for PreK-8th grade. We offer a Christ centered education\, small class sizes\, caring\, certified teachers\, a safe\, welcoming environment\, family atmosphere\, hands-on learning environment\, individualized instruction\, 3-5 year old PreK\, one tuition rate for K-8\, Scholarships are available\, after school programs. For more information\, call 547-9441.
X-ALT-DESC;FMTTYPE=text/html:St. Mary School is having an all school open house! Registration is open for PreK-8th grade. We offer a Christ centered education\, small class sizes\, caring\, certified teachers\, a safe\, welcoming environment\, family atmosphere\, hands-on learning environment\, individualized instruction\, 3-5 year old PreK\, one tuition rate for K-8\, Scholarships are available\, after school programs. For more information\, call 547-9441.
LOCATION:1005 Bridge Street Charlevoix\, MI
UID:e.1716.13011
SEQUENCE:3
DTSTAMP:20260420T175625Z
URL:http://business.charlevoix.org/events/details/st-mary-school-open-house-04-21-2020-13011
END:VEVENT

END:VCALENDAR
