BEGIN:VCALENDAR
VERSION:2.0
PRODID:-//ChamberMaster//Event Calendar 2.0//EN
METHOD:PUBLISH
X-PUBLISHED-TTL:P3D
REFRESH-INTERVAL:P3D
CALSCALE:GREGORIAN
BEGIN:VEVENT
DTSTART:20200206T223000Z
DTEND:20200207T013000Z
X-MICROSOFT-CDO-ALLDAYEVENT:FALSE
SUMMARY:Stained Glass Class
DESCRIPTION:In this class you will be creating a small stained glass piece. From start to finish\, this work of art will include wire and glass globs. You will be learning the copper-foil tiffany stained glass method. Cutting glass\, grinding the glass\, copper foiling\, and how to solder your art together. The size of this project is approximately 6" x 8" with a wooden birch tree base. All materials are included except for soldering irons. *Students will need to purchase their own soldering iron for this class: $15 at Hobby Lobby or online. Soldering Iron   100W
X-ALT-DESC;FMTTYPE=text/html:In this class you will be creating a small stained glass piece. From start to finish\, this work of art will include wire and glass globs. You will be learning the copper-foil tiffany stained glass method. Cutting glass\, grinding the glass\, copper foiling\, and how to solder your art together. The size of this project is approximately 6&rdquo\; x 8&rdquo\; with a wooden birch tree base. All materials are included except for soldering irons. *Students will need to purchase their own soldering iron for this class: $15 at Hobby Lobby or online. Soldering Iron &ndash\; 100W
LOCATION:Charlevoix Circle of Arts
UID:e.1716.12900
SEQUENCE:3
DTSTAMP:20260420T204931Z
URL:http://business.charlevoix.org/events/details/stained-glass-class-12900
END:VEVENT

END:VCALENDAR
