BEGIN:VCALENDAR
VERSION:2.0
PRODID:-//ChamberMaster//Event Calendar 2.0//EN
METHOD:PUBLISH
X-PUBLISHED-TTL:P3D
REFRESH-INTERVAL:P3D
CALSCALE:GREGORIAN
BEGIN:VEVENT
DTSTART:20200216T003000Z
DTEND:20200216T023000Z
X-MICROSOFT-CDO-ALLDAYEVENT:FALSE
SUMMARY:The Choir of Man
DESCRIPTION:Raise your glass to the international sensation\, The Choir of Man! Yes\, the boys are back by popular demand ready to take America by storm in their second U.S. tour. Known across the globe as "the ultimate feel-good show\," The Choir of Man offers over 90 minutes of non-stop adrenaline-packed vocals\, hair-raising harmonies\, and foot-stomping choreography. The nine handsome blokes from across the pond hit all the right notes performing radio hits\, classic rock\, pub tunes\, folk\, Broadway\, and more. It all takes place in that holy house that turns strangers into familiar faces: a real working pub\, where the beer and rhythms flow freely! CHEERS! Great Lakes Center for the Arts 800 Bay Harbor Drive Petoskey\, MI 49770 For tickets and more information visit greatlakescfa.org\, e-mail tickets@greatlakescfa.org\, or call 231.439.2610.
X-ALT-DESC;FMTTYPE=text/html:Raise your glass to the international sensation\, The Choir of Man! Yes\, the boys are back by popular demand ready to take America by storm in their second U.S. tour. Known across the globe as &ldquo\;the ultimate feel-good show\,&rdquo\; The Choir of Man offers over 90 minutes of non-stop adrenaline-packed vocals\, hair-raising harmonies\, and foot-stomping choreography. The nine handsome blokes from across the pond hit all the right notes performing radio hits\, classic rock\, pub tunes\, folk\, Broadway\, and more. It all takes place in that holy house that turns strangers into familiar faces: a real working pub\, where the beer and rhythms flow freely! CHEERS! Great Lakes Center for the Arts 800 Bay Harbor Drive Petoskey\, MI 49770 For tickets and more information visit greatlakescfa.org\, e-mail tickets@greatlakescfa.org\, or call 231.439.2610.
LOCATION:Great Lakes Center for the Arts 800 Bay Harbor Drive Petoskey\, MI 49770
UID:e.1716.12891
SEQUENCE:3
DTSTAMP:20260420T205211Z
URL:http://business.charlevoix.org/events/details/the-choir-of-man-12891
END:VEVENT

END:VCALENDAR
