BEGIN:VCALENDAR
VERSION:2.0
PRODID:-//ChamberMaster//Event Calendar 2.0//EN
METHOD:PUBLISH
X-PUBLISHED-TTL:P3D
REFRESH-INTERVAL:P3D
CALSCALE:GREGORIAN
BEGIN:VEVENT
DTSTART:20200227T170000Z
DTEND:20200227T180000Z
X-MICROSOFT-CDO-ALLDAYEVENT:FALSE
SUMMARY:Tip of the Mitt Watershed Council Ice Breaker Winter Speaker Series: Green Infrastructure
DESCRIPTION:Green infrastructure is a cost-effective\, resilient approach to managing wet weather impacts that provide many community benefits. It reduces and treats stormwater at its source while delivering environmental\, social\, and economic benefits. Watershed Protection Director Jennifer Buchanan will present an overview of green infrastructure techniques\, including rain gardens\, green roofs\, and permeable pavers\, that can be used in both the residential and commercial settings to help protect water quality. Please contact the Tip of the Mitt Watershed Council at 231-347-1181 to reserve a seat.
X-ALT-DESC;FMTTYPE=text/html:Green infrastructure is a cost-effective\, resilient approach to managing wet weather impacts that provide many community benefits. It reduces and treats stormwater at its source while delivering environmental\, social\, and economic benefits. Watershed Protection Director Jennifer Buchanan will present an overview of green infrastructure techniques\, including rain gardens\, green roofs\, and permeable pavers\, that can be used in both the residential and commercial settings to help protect water quality. Please contact the Tip of the Mitt Watershed Council at 231-347-1181 to reserve a seat.
LOCATION:426 Bay Street\, Petoskey\, MI 49770
UID:e.1716.12962
SEQUENCE:3
DTSTAMP:20260420T205335Z
URL:http://business.charlevoix.org/events/details/tip-of-the-mitt-watershed-council-ice-breaker-winter-speaker-series-green-infrastructure-12962
END:VEVENT

END:VCALENDAR
