BEGIN:VCALENDAR
VERSION:2.0
PRODID:-//ChamberMaster//Event Calendar 2.0//EN
METHOD:PUBLISH
X-PUBLISHED-TTL:P3D
REFRESH-INTERVAL:P3D
CALSCALE:GREGORIAN
BEGIN:VEVENT
DTSTART:20200107T233000Z
DTEND:20200108T010000Z
X-MICROSOFT-CDO-ALLDAYEVENT:FALSE
SUMMARY:Travel Series-Kayaking Lake Superior
DESCRIPTION:Tom Renkes decided to take a solo kayak journey of 1\,000 miles on Lake Superior for his 60th birthday\; a final stamp on his recovery from a decades old depression and a suicidal recklessness. This was an unwired journey with no smartphone\, laptop\, GPS\, wristwatch\, GoPro or trailing vehicle. Join Tom on a journey of immersion into nature and the rhythms of the Universe\, while along the way finding revelations of a lost humanity.
X-ALT-DESC;FMTTYPE=text/html:Tom Renkes decided to take a solo kayak journey of 1\,000 miles on Lake Superior for his 60th birthday\; a final stamp on his recovery from a decades old depression and a suicidal recklessness. This was an unwired journey with no smartphone\, laptop\, GPS\, wristwatch\, GoPro or trailing vehicle. Join Tom on a journey of immersion into nature and the rhythms of the Universe\, while along the way finding revelations of a lost humanity.
LOCATION:Charlevoix Public Library-Community Room
UID:e.1716.12841
SEQUENCE:3
DTSTAMP:20260420T220928Z
URL:http://business.charlevoix.org/events/details/travel-series-kayaking-lake-superior-12841
END:VEVENT

END:VCALENDAR
