BEGIN:VCALENDAR
VERSION:2.0
PRODID:-//ChamberMaster//Event Calendar 2.0//EN
METHOD:PUBLISH
X-PUBLISHED-TTL:P3D
REFRESH-INTERVAL:P3D
CALSCALE:GREGORIAN
BEGIN:VEVENT
DTSTART:20200114T233000Z
DTEND:20200115T010000Z
X-MICROSOFT-CDO-ALLDAYEVENT:FALSE
SUMMARY:Travel Series-Our Majestic Great Lakes
DESCRIPTION:Travel with Loreen Niewenhuis as she takes you to the edges of all five Great Lakes and many of the waterways connecting them. In words\, photos\, and video\, you'll explore the geology\, hydrology\, and natural history of the largest system of freshwater lakes in the world. She will also illuminate the threats to this massive ecosystem: invasive species\, pollution\, destruction of wetlands\, and the gradual warming of the lakes.
X-ALT-DESC;FMTTYPE=text/html:Travel with Loreen Niewenhuis as she takes you to the edges of all five Great Lakes and many of the waterways connecting them. In words\, photos\, and video\, you&rsquo\;ll explore the geology\, hydrology\, and natural history of the largest system of freshwater lakes in the world. She will also illuminate the threats to this massive ecosystem: invasive species\, pollution\, destruction of wetlands\, and the gradual warming of the lakes.
LOCATION:Charlevoix Public Library-Community Room
UID:e.1716.12842
SEQUENCE:3
DTSTAMP:20260420T221020Z
URL:http://business.charlevoix.org/events/details/travel-series-our-majestic-great-lakes-12842
END:VEVENT

END:VCALENDAR
