BEGIN:VCALENDAR
VERSION:2.0
PRODID:-//ChamberMaster//Event Calendar 2.0//EN
METHOD:PUBLISH
X-PUBLISHED-TTL:P3D
REFRESH-INTERVAL:P3D
CALSCALE:GREGORIAN
BEGIN:VEVENT
DTSTART:20180628T140000Z
DTEND:20180629T190000Z
X-MICROSOFT-CDO-ALLDAYEVENT:FALSE
SUMMARY:Watercolor Painting Workshop with Artist Luke Buck
DESCRIPTION:In collaboration with the national "Smithsonian Museum on Main Street Water/Ways" exhibit" Raven Hill is hosting this summer\, Luke has chosen the study of "Waterways in Watercolor" for the theme of the Watercolor Workshop this year. Using Luke's unique technique in transparent watercolor and gouache\, the group will study painting landscape scenes depicting water in different forms\, lakes\, streams\, or waterfalls.
X-ALT-DESC;FMTTYPE=text/html:In collaboration with the national &ldquo\;Smithsonian Museum on Main Street Water/Ways&rdquo\; exhibit&rdquo\; Raven Hill is hosting this summer\, Luke has chosen the study of &ldquo\;Waterways in Watercolor&rdquo\; for the theme of the Watercolor Workshop this year. Using Luke&rsquo\;s unique technique in transparent watercolor and gouache\, the group will study painting landscape scenes depicting water in different forms\, lakes\, streams\, or waterfalls.
LOCATION:Raven Hill Discovery Center 4737 Fuller Road\, East Jordan\, MI 49727
UID:e.1716.10188
SEQUENCE:3
DTSTAMP:20260422T024712Z
URL:http://business.charlevoix.org/events/details/watercolor-painting-workshop-with-artist-luke-buck-10188
END:VEVENT

END:VCALENDAR
