BEGIN:VCALENDAR
VERSION:2.0
PRODID:-//ChamberMaster//Event Calendar 2.0//EN
METHOD:PUBLISH
X-PUBLISHED-TTL:P3D
REFRESH-INTERVAL:P3D
CALSCALE:GREGORIAN
BEGIN:VEVENT
DTSTART:20190627T140000Z
DTEND:20190628T190000Z
X-MICROSOFT-CDO-ALLDAYEVENT:FALSE
SUMMARY:Watercolor Workshop
DESCRIPTION:For artists at every level\, Luke Buck\, watercolor artist\, returns to Raven Hill for the 11th year.
X-ALT-DESC;FMTTYPE=text/html:For artists at every level\, Luke Buck\, watercolor artist\, returns to Raven Hill for the 11th year.
LOCATION:Raven Hill Discovery Center 4737 Fuller Road East Jordan\, MI 49727
UID:e.1716.10546
SEQUENCE:3
DTSTAMP:20260421T095759Z
URL:http://business.charlevoix.org/events/details/watercolor-workshop-10546
END:VEVENT

END:VCALENDAR
