BEGIN:VCALENDAR
VERSION:2.0
PRODID:-//ChamberMaster//Event Calendar 2.0//EN
METHOD:PUBLISH
X-PUBLISHED-TTL:P3D
REFRESH-INTERVAL:P3D
CALSCALE:GREGORIAN
BEGIN:VEVENT
DTSTART:20200731T170000Z
DTEND:20200731T200000Z
X-MICROSOFT-CDO-ALLDAYEVENT:FALSE
SUMMARY:Watercolor Workshop with Susan Lingg
DESCRIPTION:A three hour watercolor workshop for beginners and intermediate painters. Susan will be teaching you how to access your creative side through thought and breath\, discuss organizing tools and supplies for greater clarity\, and clearing the path for more creativity to come forward. You will be using a limited palette and exploring the laying technique with transparent glazes. Will be looking at negative shapes and blending possibilities in creating your first painting of trees in our landscape. In your second painting you will be adding the salt and splatter techniques for creating greater depth and texture in our mountain landscape study from skies and clouds to vistas. All materials & supplies included. Come join the fun! Minimum # of Participants to hold class = 8 Maximum # of Participants = 10
X-ALT-DESC;FMTTYPE=text/html:A three hour watercolor workshop for beginners and intermediate painters. Susan will be teaching you how to access your creative side through thought and breath\, discuss organizing tools and supplies for greater clarity\, and clearing the path for more creativity to come forward. You will be using a limited palette and exploring the laying technique with transparent glazes. Will be looking at negative shapes and blending possibilities in creating your first painting of trees in our landscape. In your second painting you will be adding the salt and splatter techniques for creating greater depth and texture in our mountain landscape study from skies and clouds to vistas. All materials &amp\; supplies included. Come join the fun! Minimum # of Participants to hold class = 8 Maximum # of Participants = 10
LOCATION:Charlevoix Circle of Arts Garden Level Art Studio 109 Clinton Street Charlevoix\, MI 49720
UID:e.1716.13052
SEQUENCE:3
DTSTAMP:20260420T145809Z
URL:http://business.charlevoix.org/events/details/watercolor-workshop-with-susan-lingg-13052
END:VEVENT

END:VCALENDAR
