BEGIN:VCALENDAR
VERSION:2.0
PRODID:-//ChamberMaster//Event Calendar 2.0//EN
METHOD:PUBLISH
X-PUBLISHED-TTL:P3D
REFRESH-INTERVAL:P3D
CALSCALE:GREGORIAN
BEGIN:VEVENT
DTSTART:20200330T223000Z
DTEND:20200331T003000Z
X-MICROSOFT-CDO-ALLDAYEVENT:FALSE
SUMMARY:WinterFolk Concert with Claire Bates
DESCRIPTION:Conscious analysis and loving transparency illuminate tender\, gutsy\, bluesy folk when Claire Bates plays and sings. Geographically gallivanting\, she savors her Michigan roots. Building on experience as a social worker\, activist\, and relationally entwined human being\, Claire uses acoustic guitar and her sweet\, bold voice to communicate her hope for each person to experience peace and dignity. Claire shares from her heart songs for hard times.
X-ALT-DESC;FMTTYPE=text/html:Conscious analysis and loving transparency illuminate tender\, gutsy\, bluesy folk when Claire Bates plays and sings. Geographically gallivanting\, she savors her Michigan roots. Building on experience as a social worker\, activist\, and relationally entwined human being\, Claire uses acoustic guitar and her sweet\, bold voice to communicate her hope for each person to experience peace and dignity. Claire shares from her heart songs for hard times.
LOCATION:Charlevoix Public Library
UID:e.1716.12990
SEQUENCE:3
DTSTAMP:20260420T192033Z
URL:http://business.charlevoix.org/events/details/winterfolk-concert-with-claire-bates-12990
END:VEVENT

END:VCALENDAR
