BEGIN:VCALENDAR
VERSION:2.0
PRODID:-//ChamberMaster//Event Calendar 2.0//EN
METHOD:PUBLISH
X-PUBLISHED-TTL:P3D
REFRESH-INTERVAL:P3D
CALSCALE:GREGORIAN
BEGIN:VEVENT
DTSTART:20210720T140000Z
DTEND:20210720T160000Z
X-MICROSOFT-CDO-ALLDAYEVENT:FALSE
SUMMARY:"Lilacs A Bloom" Watercolor Workshop with Megan Swoyer
DESCRIPTION:In this beginner Watercolor Lilacs Abloom workshop\, artist Megan Swoyer will teach students how to capture an arrangement of Michigan lilacs tucked into a farmer's market-style glass jar/vase. Megan will lead students on a fun\, unique-technique watercolor journey\, where they'll be using everything from white crayon and watercolor paints to salt and paper clip edges. The layered\, end result will feature lost-and-found edges\, pretty and fresh washes\, glass reflection and\, of course\, the ever-enchanting lilacs\, all evoking a Michigan summer's day.
X-ALT-DESC;FMTTYPE=text/html:In this beginner Watercolor Lilacs Abloom workshop\, artist Megan Swoyer will teach students how to capture an arrangement of Michigan lilacs tucked into a farmer&rsquo\;s market-style glass jar/vase. Megan will lead students on a fun\, unique-technique watercolor journey\, where they&rsquo\;ll be using everything from white crayon and watercolor paints to salt and paper clip edges. The layered\, end result will feature lost-and-found edges\, pretty and fresh washes\, glass reflection and\, of course\, the ever-enchanting lilacs\, all evoking a Michigan summer&rsquo\;s day.
LOCATION:Charlevoix Circle of Arts 109 Clinton St Charlevoix\, MI 49720
UID:e.1716.13181
SEQUENCE:3
DTSTAMP:20260422T085249Z
URL:https://business.charlevoix.org/events/details/lilacs-a-bloom-watercolor-workshop-with-megan-swoyer-13181
END:VEVENT

END:VCALENDAR
