BEGIN:VCALENDAR
VERSION:2.0
PRODID:-//ChamberMaster//Event Calendar 2.0//EN
METHOD:PUBLISH
X-PUBLISHED-TTL:P3D
REFRESH-INTERVAL:P3D
CALSCALE:GREGORIAN
BEGIN:VEVENT
DTSTART:20210811T133000Z
DTEND:20210812T200000Z
X-MICROSOFT-CDO-ALLDAYEVENT:FALSE
SUMMARY:Neville Watercolor 2-Day Workshop
DESCRIPTION:Paint for 2 days with nationally known watercolorists Nancy Nordloh Neville and Bruce Neville! Still life and architectural demos each day. Learn to paint with clear\, clean color and with freshness and spontaneity. For beginners to intermediate painters!
X-ALT-DESC;FMTTYPE=text/html:Paint for 2 days with nationally known watercolorists Nancy Nordloh Neville and Bruce Neville! Still life and architectural demos each day. Learn to paint with clear\, clean color and with freshness and spontaneity. For beginners to intermediate painters!
LOCATION:Charlevoix Circle of Arts 109 Clinton St\, Charlevoix\, MI 49720
UID:e.1716.13185
SEQUENCE:3
DTSTAMP:20260421T230753Z
URL:https://business.charlevoix.org/events/details/neville-watercolor-2-day-workshop-13185
END:VEVENT

END:VCALENDAR
